BEGIN:VCALENDAR
VERSION:2.0
PRODID:-//Club Sellemols (Historienfreunde Maikammer-Alsterweiler) - ECPv6.15.20//NONSGML v1.0//EN
CALSCALE:GREGORIAN
METHOD:PUBLISH
X-ORIGINAL-URL:https://www.clubsellemols.de
X-WR-CALDESC:Veranstaltungen für Club Sellemols (Historienfreunde Maikammer-Alsterweiler)
REFRESH-INTERVAL;VALUE=DURATION:PT1H
X-Robots-Tag:noindex
X-PUBLISHED-TTL:PT1H
BEGIN:VTIMEZONE
TZID:Europe/Berlin
BEGIN:DAYLIGHT
TZOFFSETFROM:+0100
TZOFFSETTO:+0200
TZNAME:CEST
DTSTART:20240331T010000
END:DAYLIGHT
BEGIN:STANDARD
TZOFFSETFROM:+0200
TZOFFSETTO:+0100
TZNAME:CET
DTSTART:20241027T010000
END:STANDARD
BEGIN:DAYLIGHT
TZOFFSETFROM:+0100
TZOFFSETTO:+0200
TZNAME:CEST
DTSTART:20250330T010000
END:DAYLIGHT
BEGIN:STANDARD
TZOFFSETFROM:+0200
TZOFFSETTO:+0100
TZNAME:CET
DTSTART:20251026T010000
END:STANDARD
BEGIN:DAYLIGHT
TZOFFSETFROM:+0100
TZOFFSETTO:+0200
TZNAME:CEST
DTSTART:20260329T010000
END:DAYLIGHT
BEGIN:STANDARD
TZOFFSETFROM:+0200
TZOFFSETTO:+0100
TZNAME:CET
DTSTART:20261025T010000
END:STANDARD
END:VTIMEZONE
BEGIN:VEVENT
DTSTART;TZID=Europe/Berlin:20251024T160000
DTEND;TZID=Europe/Berlin:20251024T235900
DTSTAMP:20260422T124856
CREATED:20250901T140647Z
LAST-MODIFIED:20251022T130917Z
UID:6172-1761321600-1761350340@www.clubsellemols.de
SUMMARY:3. Jahrestreffen Kalmitweinberg
DESCRIPTION:Die traditionelle (Dritte) Jahresfeier im Kalmitweinberg findet am Freitag\, den 24. Oktober 2025 ab 16:00 Uhr statt. Der Club Sellemols informiert über die aktuellen Entwicklungen im Weinberg und im Kalmitturm. Für Essen und Trinken ist gesorgt (Einladung erforderlich). \n \n 
URL:https://www.clubsellemols.de/termin/kalmitweinberg/
LOCATION:Kalmitweinberg\, Kalmit\, Maikammer\, 67487\, Germany
ATTACH;FMTTYPE=image/jpeg:https://www.clubsellemols.de/wp-content/uploads/2025/09/20240417_095626-1.jpg
ORGANIZER;CN="Club Sellemols":MAILTO:info@clubsellemols.de
END:VEVENT
END:VCALENDAR