BEGIN:VCALENDAR
VERSION:2.0
PRODID:-//Club Sellemols (Historienfreunde Maikammer-Alsterweiler) - ECPv6.15.20//NONSGML v1.0//EN
CALSCALE:GREGORIAN
METHOD:PUBLISH
X-ORIGINAL-URL:https://www.clubsellemols.de
X-WR-CALDESC:Veranstaltungen für Club Sellemols (Historienfreunde Maikammer-Alsterweiler)
REFRESH-INTERVAL;VALUE=DURATION:PT1H
X-Robots-Tag:noindex
X-PUBLISHED-TTL:PT1H
BEGIN:VTIMEZONE
TZID:Europe/Berlin
BEGIN:DAYLIGHT
TZOFFSETFROM:+0100
TZOFFSETTO:+0200
TZNAME:CEST
DTSTART:20250330T010000
END:DAYLIGHT
BEGIN:STANDARD
TZOFFSETFROM:+0200
TZOFFSETTO:+0100
TZNAME:CET
DTSTART:20251026T010000
END:STANDARD
BEGIN:DAYLIGHT
TZOFFSETFROM:+0100
TZOFFSETTO:+0200
TZNAME:CEST
DTSTART:20260329T010000
END:DAYLIGHT
BEGIN:STANDARD
TZOFFSETFROM:+0200
TZOFFSETTO:+0100
TZNAME:CET
DTSTART:20261025T010000
END:STANDARD
BEGIN:DAYLIGHT
TZOFFSETFROM:+0100
TZOFFSETTO:+0200
TZNAME:CEST
DTSTART:20270328T010000
END:DAYLIGHT
BEGIN:STANDARD
TZOFFSETFROM:+0200
TZOFFSETTO:+0100
TZNAME:CET
DTSTART:20271031T010000
END:STANDARD
END:VTIMEZONE
BEGIN:VEVENT
DTSTART;TZID=Europe/Berlin:20260513T190000
DTEND;TZID=Europe/Berlin:20260513T210000
DTSTAMP:20260421T195950
CREATED:20260417T054051Z
LAST-MODIFIED:20260417T054051Z
UID:6877-1778698800-1778706000@www.clubsellemols.de
SUMMARY:Stammtisch Mai
DESCRIPTION:Unser monatlicher Stammtisch findet in der Steinmühle statt.
URL:https://www.clubsellemols.de/termin/stammtisch-mai/
LOCATION:Steinmühle\, An der Steinmühle 12\, Maikammer\, 67487\, Germany
ORGANIZER;CN="Club Sellemols":MAILTO:info@clubsellemols.de
END:VEVENT
END:VCALENDAR